BEGIN:VCALENDAR
VERSION:2.0
PRODID:Events Booking
BEGIN:VEVENT
UID:69e99dcaadf6e
SUMMARY:Marius Neset \"Happy\"
DESCRIPTION:
 
 
 
 presented by GamsbART
 &nbsp\;
 &nbsp\;
 Marius 
 Neset - tenor\, soprano saxophone Elliot Galvin - keyboards Magnus Hjorth 
 - piano Conor Chaplin - bass Anton Eger - drums\, percussion
 
 
 
 
LOCATION:Grieskai 74a\, 8020 Graz
DTSTART:20230331T180000Z
DTSTAMP:20260423T061922Z
ORGANIZER:MAILTO:tickets@tubes-music.at
GEO:47.062323;15.4334
X-APPLE-STRUCTURED-LOCATION;VALUE=URI;X-ADDRESS=Grieskai 74a\, 8020 Graz;X-
 APPLE-RADIUS=72;X-TITLE=Tube's:47.062323;15.4334
END:VEVENT
END:VCALENDAR