BEGIN:VCALENDAR
VERSION:2.0
PRODID:Events Booking
BEGIN:VEVENT
UID:69e73b305f6d5
SUMMARY:Moore / Kikoski / Nikolic / Dudli
DESCRIPTION:
 
 
 
 
 Ralph Moore – saxophoneDavid Kikoski – piano
 Milan Nikolic - bassJoris Dudli&nbsp\;– drums
 
 
 
 
 
LOCATION:Grieskai 74a\, 8020 Graz
DTSTART:20250321T190000Z
DTSTAMP:20260421T105408Z
ORGANIZER:MAILTO:tickets@tubes-music.at
GEO:47.062323;15.4334
X-APPLE-STRUCTURED-LOCATION;VALUE=URI;X-ADDRESS=Grieskai 74a\, 8020 Graz;X-
 APPLE-RADIUS=72;X-TITLE=Tube's:47.062323;15.4334
END:VEVENT
END:VCALENDAR