BEGIN:VCALENDAR
VERSION:2.0
PRODID:Events Booking
BEGIN:VEVENT
UID:69e77d11ed9e5
SUMMARY:The Sleep Of Reason Produces Monsters
DESCRIPTION:
 
 
 
 
 
 
 Mariam Rezaei&nbsp\;turntablesGabriele Mit
 elli&nbsp\;trumpet\, electronicsMette Rasmussen&nbsp\;alto saxophoneLukas 
 Koenig&nbsp\;drums\, electronics
 presented by OPEN MUSIC
 
 
 
 
 
 
 
 
LOCATION:Grieskai 74a\, 8020 Graz
DTSTART:20250109T190000Z
DTSTAMP:20260421T153513Z
ORGANIZER:MAILTO:tickets@tubes-music.at
GEO:47.062323;15.4334
X-APPLE-STRUCTURED-LOCATION;VALUE=URI;X-ADDRESS=Grieskai 74a\, 8020 Graz;X-
 APPLE-RADIUS=72;X-TITLE=Tube's:47.062323;15.4334
END:VEVENT
END:VCALENDAR