BEGIN:VCALENDAR
VERSION:2.0
PRODID:Events Booking
BEGIN:VEVENT
UID:69e9fdc0c3c17
SUMMARY:The Mingus Big Band
DESCRIPTION:“The hippest big band in the universe - robust\, earthy\, san
 ctified.”
 &nbsp\;
LOCATION:Grieskai 74a\, 8020 Graz
DTSTART:20221120T190000Z
DTSTAMP:20260423T130848Z
ORGANIZER:MAILTO:tickets@tubes-music.at
GEO:47.062323;15.4334
X-APPLE-STRUCTURED-LOCATION;VALUE=URI;X-ADDRESS=Grieskai 74a\, 8020 Graz;X-
 APPLE-RADIUS=72;X-TITLE=Tube's:47.062323;15.4334
END:VEVENT
END:VCALENDAR