BEGIN:VCALENDAR
VERSION:2.0
PRODID:Events Booking
BEGIN:VEVENT
UID:69e8786fd49ac
SUMMARY:Klemens Marktl - [X]periment
DESCRIPTION:Klemens Marktl - drums\, comp
 Michael Erian - sax
 Flip Phil
 ipp - vibes
 Urs Hager - piano
 Danny Ziemann - bass
DTSTART:20201023T180000Z
DTSTAMP:20260422T092743Z
ORGANIZER:MAILTO:tickets@tubes-music.at
END:VEVENT
END:VCALENDAR