BEGIN:VCALENDAR
VERSION:2.0
PRODID:Events Booking
BEGIN:VEVENT
UID:69e86fb0ad713
SUMMARY:Markt(l)Xperience feat. Tim Armacost
DESCRIPTION:
 
 
 
 
 
 Tim Armacost - sax
 Sava Miletić - piano
 
 Stefan \"Pista\" Bartus - bass
 Klemens Marktl - drums/compositions&nbsp\
 ;
 
 
 
 
 
 
LOCATION:Grieskai 74a\, 8020 Graz
DTSTART:20240322T190000Z
DTSTAMP:20260422T085024Z
ORGANIZER:MAILTO:tickets@tubes-music.at
GEO:47.062323;15.4334
X-APPLE-STRUCTURED-LOCATION;VALUE=URI;X-ADDRESS=Grieskai 74a\, 8020 Graz;X-
 APPLE-RADIUS=72;X-TITLE=Tube's:47.062323;15.4334
END:VEVENT
END:VCALENDAR