BEGIN:VCALENDAR
VERSION:2.0
PRODID:Events Booking
BEGIN:VEVENT
UID:69e74d829d6d0
SUMMARY:MAOLA & Band
DESCRIPTION:
 
 
 
 
 Marlies Fürst – Akkordeon/Gesang Johannes Dul
 linger – Schlagzeug Lukas Pamminger – Kontrabass/E-Bass[ David Binderb
 erger – Gitarre/E-Gitarre
 
 
 
 
 
LOCATION:Grieskai 74a\, 8020 Graz
DTSTART:20250308T190000Z
DTSTAMP:20260421T121218Z
ORGANIZER:MAILTO:tickets@tubes-music.at
GEO:47.062323;15.4334
X-APPLE-STRUCTURED-LOCATION;VALUE=URI;X-ADDRESS=Grieskai 74a\, 8020 Graz;X-
 APPLE-RADIUS=72;X-TITLE=Tube's:47.062323;15.4334
END:VEVENT
END:VCALENDAR