BEGIN:VCALENDAR
VERSION:2.0
PRODID:Events Booking
BEGIN:VEVENT
UID:69e5e31d7c54c
SUMMARY:\"Sir\" Oliver Mally - Different Shades of Blues
DESCRIPTION:
 
 
 
 
 \"Sir\" Oliver Mally&nbsp\;- vocals / guitar
 F
 ranz Kreimer&nbsp\;- keys
 Peter Lenz&nbsp\;- drums
 &nbsp\;
 &amp\; sp
 ecial guests
 
 
 
 
 
LOCATION:Grieskai 74a\, 8020 Graz
DTSTART:20251019T150000Z
DTSTAMP:20260420T102605Z
ORGANIZER:MAILTO:tickets@tubes-music.at
GEO:47.062323;15.4334
X-APPLE-STRUCTURED-LOCATION;VALUE=URI;X-ADDRESS=Grieskai 74a\, 8020 Graz;X-
 APPLE-RADIUS=72;X-TITLE=Tube's:47.062323;15.4334
END:VEVENT
END:VCALENDAR