BEGIN:VCALENDAR
VERSION:2.0
PRODID:Events Booking
BEGIN:VEVENT
UID:69e8f19ba5778
SUMMARY:5 o'clock \"Tea or Whisky\"
DESCRIPTION:
 
 
 
 
 \"Sir\" Oliver Mally Group feat.Luis Bonilla &am
 p\; Martin Gasselsberger
 \"Sir\" Oliver Mally - voc\, guitarAlex Meik - 
 bass\, vocPeter Lenz - drums
 Luis Bonilla - tromboneMartin Gasselsberger
  - piano
 
 
 
 
 
LOCATION:Grieskai 74a\, 8020 Graz
DTSTART:20231022T150000Z
DTSTAMP:20260422T180443Z
ORGANIZER:MAILTO:tickets@tubes-music.at
GEO:47.062323;15.4334
X-APPLE-STRUCTURED-LOCATION;VALUE=URI;X-ADDRESS=Grieskai 74a\, 8020 Graz;X-
 APPLE-RADIUS=72;X-TITLE=Tube's:47.062323;15.4334
END:VEVENT
END:VCALENDAR