BEGIN:VCALENDAR
VERSION:2.0
PRODID:Events Booking
BEGIN:VEVENT
UID:69e8d31dc4d49
SUMMARY:Maja Jaku Sextett
DESCRIPTION:
 
 
 
 GamsbART presents
 &nbsp\;
 
 Maja Jaku - vocal&
 nbsp\;Lorenz Widauer - trumpetMichael Marginter - altosaxFagner Wesley - p
 ianoDusan Simovic - bassJoris Dudli - dr
 
 
 
 
 
LOCATION:Grieskai 74a\, 8020 Graz
DTSTART:20231124T190000Z
DTSTAMP:20260422T155437Z
ORGANIZER:MAILTO:tickets@tubes-music.at
GEO:47.062323;15.4334
X-APPLE-STRUCTURED-LOCATION;VALUE=URI;X-ADDRESS=Grieskai 74a\, 8020 Graz;X-
 APPLE-RADIUS=72;X-TITLE=Tube's:47.062323;15.4334
END:VEVENT
END:VCALENDAR