BEGIN:VCALENDAR
VERSION:2.0
PRODID:Events Booking
BEGIN:VEVENT
UID:69e9850f9f433
SUMMARY:Maaike Den Dunnen
DESCRIPTION:
 
 
 
 
 MAAIKE DEN DUNNEN - PRACTICING SOLITUDE
 
 Maa
 ike Den Dunnen&nbsp\;- vocals\, piano
 &nbsp\;
 
 
 
 
LOCATION:Grieskai 74a\, 8020 Graz
DTSTART:20230412T180000Z
DTSTAMP:20260423T043351Z
ORGANIZER:MAILTO:tickets@tubes-music.at
GEO:47.062323;15.4334
X-APPLE-STRUCTURED-LOCATION;VALUE=URI;X-ADDRESS=Grieskai 74a\, 8020 Graz;X-
 APPLE-RADIUS=72;X-TITLE=Tube's:47.062323;15.4334
END:VEVENT
END:VCALENDAR