BEGIN:VCALENDAR
VERSION:2.0
PRODID:Events Booking
BEGIN:VEVENT
UID:69e9e84ad9743
SUMMARY:Joe Magnarelli & Vincent Herring Quintet
DESCRIPTION:Joe Magnarelli – trumpetVincent Herring – ten saxPeter Zak 
 – pianoIgnasi González – bassJoris Dudli – drums
LOCATION:Grieskai 74a\, 8020 Graz
DTSTART:20221202T190000Z
DTSTAMP:20260423T113714Z
ORGANIZER:MAILTO:tickets@tubes-music.at
GEO:47.062323;15.4334
X-APPLE-STRUCTURED-LOCATION;VALUE=URI;X-ADDRESS=Grieskai 74a\, 8020 Graz;X-
 APPLE-RADIUS=72;X-TITLE=Tube's:47.062323;15.4334
END:VEVENT
END:VCALENDAR