BEGIN:VCALENDAR
VERSION:2.0
PRODID:Events Booking
BEGIN:VEVENT
UID:69eaa6948b7d5
SUMMARY:LUTrio - CD Präsentation
DESCRIPTION:
 
 Lukas Kleemair – Schlagzeug&nbsp\;Urs Hager – Klavier
 &nbsp\;Tobias Steinrück – Bass&nbsp\;
 special guest&nbsp\;Jakob Helli
 ng – Trompete&nbsp\;
 
 
LOCATION:Grieskai 74a\, 8020 Graz
DTSTART:20220513T180000Z
DTSTAMP:20260424T010908Z
ORGANIZER:MAILTO:tickets@tubes-music.at
GEO:47.062323;15.4334
X-APPLE-STRUCTURED-LOCATION;VALUE=URI;X-ADDRESS=Grieskai 74a\, 8020 Graz;X-
 APPLE-RADIUS=72;X-TITLE=Tube's:47.062323;15.4334
END:VEVENT
END:VCALENDAR