BEGIN:VCALENDAR
VERSION:2.0
PRODID:Events Booking
BEGIN:VEVENT
UID:69e5f639c5df0
SUMMARY:Luis Bonilla & Sigi Feigl Quintett
DESCRIPTION:Luis Bonilla - trombone
 Sigi Feigl - woodwinds
 Saš Mutić&
 nbsp\;- piano
 Wolfram Derschmidt - bass
 Karlheinz Miklin - drums
LOCATION:Grieskai 74a\, 8020 Graz
DTSTART:20210602T180000Z
DTSTAMP:20260420T114737Z
ORGANIZER:MAILTO:tickets@tubes-music.at
GEO:47.062323;15.4334
X-APPLE-STRUCTURED-LOCATION;VALUE=URI;X-ADDRESS=Grieskai 74a\, 8020 Graz;X-
 APPLE-RADIUS=72;X-TITLE=Tube's:47.062323;15.4334
END:VEVENT
END:VCALENDAR