BEGIN:VCALENDAR
VERSION:2.0
PRODID:Events Booking
BEGIN:VEVENT
UID:69e77d784a415
SUMMARY:Kirk Lightsey Quartet
DESCRIPTION:
 
 
 
 
 
 
 Kirk Lightsey&nbsp\;- pianoPaul Zauner&nbs
 p\;- tromboneWolfram Derschmdit&nbsp\;- bassDusan Novakov - drums
 
 
 
 
 
 
 
 
LOCATION:Grieskai 74a\, 8020 Graz
DTSTART:20250116T190000Z
DTSTAMP:20260421T153656Z
ORGANIZER:MAILTO:tickets@tubes-music.at
GEO:47.062323;15.4334
X-APPLE-STRUCTURED-LOCATION;VALUE=URI;X-ADDRESS=Grieskai 74a\, 8020 Graz;X-
 APPLE-RADIUS=72;X-TITLE=Tube's:47.062323;15.4334
END:VEVENT
END:VCALENDAR