BEGIN:VCALENDAR
VERSION:2.0
PRODID:Events Booking
BEGIN:VEVENT
UID:69e8b83149a65
SUMMARY:LiberA
DESCRIPTION:
 
 
 
 
 open music presents
 Max Petersen - piano\, com
 positionKolja Legde - double bassAlessandro Rossi - drumsSong Yi Jeon - vo
 calsCosima Bodien - violinIsabel Gehweiler - cello
 
 
 
 
 
LOCATION:Grieskai 74a\, 8020 Graz
DTSTART:20231212T190000Z
DTSTAMP:20260422T135945Z
ORGANIZER:MAILTO:tickets@tubes-music.at
GEO:47.062323;15.4334
X-APPLE-STRUCTURED-LOCATION;VALUE=URI;X-ADDRESS=Grieskai 74a\, 8020 Graz;X-
 APPLE-RADIUS=72;X-TITLE=Tube's:47.062323;15.4334
END:VEVENT
END:VCALENDAR