BEGIN:VCALENDAR
VERSION:2.0
PRODID:Events Booking
BEGIN:VEVENT
UID:69e9fe0e3b546
SUMMARY:Peter Lenz Quartett
DESCRIPTION:Luis BONILLA -&nbsp\;tromboneKonstantinos BOURVARIS -&nbsp\;gui
 tarHrvoje KRALJ -&nbsp\;bassPeter LENZ&nbsp\;-&nbsp\;drums
LOCATION:Grieskai 74a\, 8020 Graz
DTSTART:20221102T190000Z
DTSTAMP:20260423T131006Z
ORGANIZER:MAILTO:tickets@tubes-music.at
GEO:47.062323;15.4334
X-APPLE-STRUCTURED-LOCATION;VALUE=URI;X-ADDRESS=Grieskai 74a\, 8020 Graz;X-
 APPLE-RADIUS=72;X-TITLE=Tube's:47.062323;15.4334
END:VEVENT
END:VCALENDAR