BEGIN:VCALENDAR
VERSION:2.0
PRODID:Events Booking
BEGIN:VEVENT
UID:69e78fcb603e4
SUMMARY:LEKO - Big Band
DESCRIPTION:LEKO - Big Band
 Lena Kovalchuk - drumsBruno Bisćan - conduct
 or
LOCATION:Grieskai 74a\, 8020 Graz
DTSTART:20220524T180000Z
DTSTAMP:20260421T165507Z
ORGANIZER:MAILTO:tickets@tubes-music.at
GEO:47.062323;15.4334
X-APPLE-STRUCTURED-LOCATION;VALUE=URI;X-ADDRESS=Grieskai 74a\, 8020 Graz;X-
 APPLE-RADIUS=72;X-TITLE=Tube's:47.062323;15.4334
END:VEVENT
END:VCALENDAR