BEGIN:VCALENDAR
VERSION:2.0
PRODID:Events Booking
BEGIN:VEVENT
UID:69ea79c25d79a
SUMMARY:KUG - Latin Ensemble
DESCRIPTION:Tanja Filipović (SRB) - GesangTadej Drnovšek (SI) - TrompeteJ
 ean-Baptiste Rousseaux (FR) - TrompeteMaximilian Glanz (D) - TenorsaxManue
 l Iranzo (ES) - PosauneBlaž Pahor (SI) - KlavierZoran Šmic (HR) - Gitarr
 eMatthias Kessler (A) - BassGabor Bedö (HU) - PerkussionAntun Profeta (HR
 ) - Perkussion
LOCATION:Grieskai 74a\, 8020 Graz
DTSTART:20220617T180000Z
DTSTAMP:20260423T215754Z
ORGANIZER:MAILTO:tickets@tubes-music.at
GEO:47.062323;15.4334
X-APPLE-STRUCTURED-LOCATION;VALUE=URI;X-ADDRESS=Grieskai 74a\, 8020 Graz;X-
 APPLE-RADIUS=72;X-TITLE=Tube's:47.062323;15.4334
END:VEVENT
END:VCALENDAR