BEGIN:VCALENDAR
VERSION:2.0
PRODID:Events Booking
BEGIN:VEVENT
UID:69e77d7de1848
SUMMARY:Miriam Kulmer & Band
DESCRIPTION:
 
 
 
 
 
 
 Miriam Kulmer&nbsp\; –&nbsp\; vocalsSasc
 ha Peres&nbsp\; –&nbsp\; pianoAndreas Fürstner&nbsp\; –&nbsp\; guitar
 Tobias Melcher&nbsp\; –&nbsp\; bassChristian Stolz&nbsp\; –&nbsp\; dru
 ms
 &nbsp\;
 
 
 
 
 
 
 
 
LOCATION:Grieskai 74a\, 8020 Graz
DTSTART:20250125T190000Z
DTSTAMP:20260421T153701Z
ORGANIZER:MAILTO:tickets@tubes-music.at
GEO:47.062323;15.4334
X-APPLE-STRUCTURED-LOCATION;VALUE=URI;X-ADDRESS=Grieskai 74a\, 8020 Graz;X-
 APPLE-RADIUS=72;X-TITLE=Tube's:47.062323;15.4334
END:VEVENT
END:VCALENDAR