BEGIN:VCALENDAR
VERSION:2.0
PRODID:Events Booking
BEGIN:VEVENT
UID:69e8a33eafec6
SUMMARY:Miriam Kulmer
DESCRIPTION:
 
 
 
 
 Miriam Kulmer&nbsp\;- vocalsJohannes Plechinger 
 - trompeteLukas Meißl - piano Andreas Fürstner - guitarKajetan Kamenjase
 vic - bassSebastian Baumgartner - drums
 
 
 
 
 
LOCATION:Grieskai 74a\, 8020 Graz
DTSTART:20240120T190000Z
DTSTAMP:20260422T123022Z
ORGANIZER:MAILTO:tickets@tubes-music.at
GEO:47.062323;15.4334
X-APPLE-STRUCTURED-LOCATION;VALUE=URI;X-ADDRESS=Grieskai 74a\, 8020 Graz;X-
 APPLE-RADIUS=72;X-TITLE=Tube's:47.062323;15.4334
END:VEVENT
END:VCALENDAR