BEGIN:VCALENDAR
VERSION:2.0
PRODID:Events Booking
BEGIN:VEVENT
UID:69e8a3830669c
SUMMARY:Miriam Kulmer
DESCRIPTION:
 
 
 
 
 Miriam Kulmer - vocalsSascha Peres - pianoAndrea
 s Fürstner - guitarTobias Melcher - bassKlaus Fürstner&nbsp\;- drums
 
 
 
 
 
 
LOCATION:Grieskai 74a\, 8020 Graz
DTSTART:20240119T190000Z
DTSTAMP:20260422T123131Z
ORGANIZER:MAILTO:tickets@tubes-music.at
GEO:47.062323;15.4334
X-APPLE-STRUCTURED-LOCATION;VALUE=URI;X-ADDRESS=Grieskai 74a\, 8020 Graz;X-
 APPLE-RADIUS=72;X-TITLE=Tube's:47.062323;15.4334
END:VEVENT
END:VCALENDAR