BEGIN:VCALENDAR
VERSION:2.0
PRODID:Events Booking
BEGIN:VEVENT
UID:69e99d25692b8
SUMMARY:KUH Trio
DESCRIPTION:
 
 
 
 Edi Köhldorfer&nbsp\;- guitarFrantisek Uhlir&nbsp\
 ;- bassJaromir Helesic -&nbsp\;drums
 &nbsp\;
 &nbsp\;
 
 
 
 
LOCATION:Grieskai 74a\, 8020 Graz
DTSTART:20230310T190000Z
DTSTAMP:20260423T061637Z
ORGANIZER:MAILTO:tickets@tubes-music.at
GEO:47.062323;15.4334
X-APPLE-STRUCTURED-LOCATION;VALUE=URI;X-ADDRESS=Grieskai 74a\, 8020 Graz;X-
 APPLE-RADIUS=72;X-TITLE=Tube's:47.062323;15.4334
END:VEVENT
END:VCALENDAR