BEGIN:VCALENDAR
VERSION:2.0
PRODID:Events Booking
BEGIN:VEVENT
UID:69e8bac068971
SUMMARY:Manuel Iranzo / KUG Trombone Ensemble
DESCRIPTION:
 
 
 
 
 Manu Iranzo - trombone Žan Cesar - trumpetMarti
 n Ljatman - pianoKajetan Kamenjasevic - bassSebastian Baumgartner - drums
 
 -------------------------------------
 KUG Trombone Choirdirected by Lu
 is Bonilla
 Mathias BernsteinerGarazi Petrirena MoralesConnor GentryFelix
  SteinertLovro PovijaćJanez HrastovšekMatej LeskovarAndrej ZupancicBasti
 an Kroisenbrunner
 -------------------------------------
 
 
 
 
 
LOCATION:Grieskai 74a\, 8020 Graz
DTSTART:20231201T190000Z
DTSTAMP:20260422T141040Z
ORGANIZER:MAILTO:tickets@tubes-music.at
GEO:47.062323;15.4334
X-APPLE-STRUCTURED-LOCATION;VALUE=URI;X-ADDRESS=Grieskai 74a\, 8020 Graz;X-
 APPLE-RADIUS=72;X-TITLE=Tube's:47.062323;15.4334
END:VEVENT
END:VCALENDAR