BEGIN:VCALENDAR
VERSION:2.0
PRODID:Events Booking
BEGIN:VEVENT
UID:69e8d9392b22f
SUMMARY:Armin Jambor / KUG Stage Band Sax Section
DESCRIPTION:
 
 
 
 
 Armin Jambor - tenor\, comp\, arr\; Kostantinos 
 Bourvaris - guitar\; Anil Bilgen - piano\; Tobias Melcher - bass\; Andreas
  Reisenhofer - drums\;
 -------------------------------------
 &nbsp\;

  &nbsp\;
 KUG Stage Band Sax Section
 Nikola Dužević - asMarlene Erker
  - asStefan Cepp - tsIan Baumgartner - tsKatja Zwanziger - bs
 ----------
 ---------------------------
 
 
 
 
 
LOCATION:Grieskai 74a\, 8020 Graz
DTSTART:20231130T190000Z
DTSTAMP:20260422T162041Z
ORGANIZER:MAILTO:tickets@tubes-music.at
GEO:47.062323;15.4334
X-APPLE-STRUCTURED-LOCATION;VALUE=URI;X-ADDRESS=Grieskai 74a\, 8020 Graz;X-
 APPLE-RADIUS=72;X-TITLE=Tube's:47.062323;15.4334
END:VEVENT
END:VCALENDAR