BEGIN:VCALENDAR
VERSION:2.0
PRODID:Events Booking
BEGIN:VEVENT
UID:69e6c1ce25bd9
SUMMARY:KUG Jazz (1) - Sax Section & Bone Voyage
DESCRIPTION:
 
 
 
 
 \"KUG Stage Band - Sax Section\"
 Anna Illiushy
 na - alto saxMirza Sjerčič&nbsp\;- alto sax&nbsp\;Mikis Protopapadakis -
  tenor saxHristian Risteski - tenor saxMatevz Špazapan - baritone sax
 &
 nbsp\;
 &amp\; rhythm section
 &nbsp\;
 &nbsp\;
 \"Bone Voyage\"
 
 
 Connor Gentry - tromboneGarazi Petrirena Morales - tromboneUroš Silaški 
 - tromboneAndrej Zupančič - bass trombone
 Youngeun Park - pianoMarkos 
 Varelas - bassJulijan Kunej - drums
 
 
 
 
 
 
LOCATION:Grieskai 74a\, 8020 Graz
DTSTART:20260619T180000Z
DTSTAMP:20260421T021614Z
ORGANIZER:MAILTO:tickets@tubes-music.at
GEO:47.062323;15.4334
X-APPLE-STRUCTURED-LOCATION;VALUE=URI;X-ADDRESS=Grieskai 74a\, 8020 Graz;X-
 APPLE-RADIUS=72;X-TITLE=Tube's:47.062323;15.4334
END:VEVENT
END:VCALENDAR