BEGIN:VCALENDAR
VERSION:2.0
PRODID:Events Booking
BEGIN:VEVENT
UID:69e82da6e98aa
SUMMARY:KUG Jazz Nights - Nine Piece Band
DESCRIPTION:
 
 
 
 
 
 
 Onur Yalcin - Trompete
 Nikola Duzevic&nb
 sp\;- Altosax
 Mikis Protopapadakis - Tenorsax
 Ian Baumgartner&nbsp\;- 
 Barisax
 Janez Hrstovsek - Posaune
 Max Weller - Klavier
 Domagoj Ivank
 ovic - Bass
 Lukas Blume - Schlagzeug
 Gianbattista DiGenio - Schlagzeug
 
 
 
 
 
 
 
 
LOCATION:Grieskai 74a\, 8020 Graz
DTSTART:20240606T180000Z
DTSTAMP:20260422T040838Z
ORGANIZER:MAILTO:tickets@tubes-music.at
GEO:47.062323;15.4334
X-APPLE-STRUCTURED-LOCATION;VALUE=URI;X-ADDRESS=Grieskai 74a\, 8020 Graz;X-
 APPLE-RADIUS=72;X-TITLE=Tube's:47.062323;15.4334
END:VEVENT
END:VCALENDAR