BEGIN:VCALENDAR
VERSION:2.0
PRODID:Events Booking
BEGIN:VEVENT
UID:69e82d5e83982
SUMMARY:KUG Jazz Nights - Latin Ensemble
DESCRIPTION:
 
 
 
 
 
 
 Milica Anđelić - Gesang
 Matija Podbers
 ič - Trompete
 Anna Illiushyna - Altsaxofon
 Matthias Bernsteiner - Pos
 aune
 Martin Lajtman - Klavier
 Jernej Vindšnurer - Bass
 Gloria Handl
 er - Perkussion
 Aljaž Ogulin - Perkussion
 Günther Brück - musikalis
 che Leitung
 
 
 
 
 
 
 
LOCATION:Grieskai 74a\, 8020 Graz
DTSTART:20240607T180000Z
DTSTAMP:20260422T040726Z
ORGANIZER:MAILTO:tickets@tubes-music.at
GEO:47.062323;15.4334
X-APPLE-STRUCTURED-LOCATION;VALUE=URI;X-ADDRESS=Grieskai 74a\, 8020 Graz;X-
 APPLE-RADIUS=72;X-TITLE=Tube's:47.062323;15.4334
END:VEVENT
END:VCALENDAR