BEGIN:VCALENDAR
VERSION:2.0
PRODID:Events Booking
BEGIN:VEVENT
UID:69ea8e7040b08
SUMMARY:KUG - Ensemble Night
DESCRIPTION:A5 - Ensemble
 Salamon Tüzkö&nbsp\;- trumpetAnže Zaveršnik
 &nbsp\;- alto saxManuel Jorge Iranzo&nbsp\;- tromboneMatic Štemberger&nbs
 p\;- pianoMarkos Varelas&nbsp\;- bassDaniele Schettini&nbsp\;- drums
 Nin
 e Piece Band
 Jean Baptiste Rousseaux&nbsp\;- trumpetKatharina Maier&nbsp
 \;- alto saxMiloš Kostar&nbsp\;- tenor saxMichael Kass&nbsp\;- baritone s
 axFelix Steinert&nbsp\;- tromboneTamás Papp&nbsp\;- pianoValdis Dominieks
 &nbsp\;- bassLena Kovalchuk&nbsp\;- drumsElias Pivec&nbsp\;- drums
LOCATION:Grieskai 74a\, 8020 Graz
DTSTART:20220610T180000Z
DTSTAMP:20260423T232608Z
ORGANIZER:MAILTO:tickets@tubes-music.at
GEO:47.062323;15.4334
X-APPLE-STRUCTURED-LOCATION;VALUE=URI;X-ADDRESS=Grieskai 74a\, 8020 Graz;X-
 APPLE-RADIUS=72;X-TITLE=Tube's:47.062323;15.4334
END:VEVENT
END:VCALENDAR