BEGIN:VCALENDAR
VERSION:2.0
PRODID:Events Booking
BEGIN:VEVENT
UID:69eac12a75076
SUMMARY:Jan Krizanic-Nessmann - High Touring 6tet
DESCRIPTION:Florian Supancic&nbsp\; -&nbsp\; saxophon
 Nikola Vukovic. -&n
 bsp\; trumpetEmiliano Sampaio&nbsp\;&nbsp\;-&nbsp\; guitar
 Markus Neuwir
 th&nbsp\;&nbsp\;-&nbsp\; piano
 Hrvoje Kralj&nbsp\;&nbsp\;-&nbsp\; bass

  Jan Krizanic-Nessmann&nbsp\;&nbsp\;-&nbsp\; drums
 &nbsp\;
 Debut-Album
 -Release
LOCATION:Grieskai 74a\, 8020 Graz
DTSTART:20220322T190000Z
DTSTAMP:20260424T030234Z
ORGANIZER:MAILTO:tickets@tubes-music.at
GEO:47.062323;15.4334
X-APPLE-STRUCTURED-LOCATION;VALUE=URI;X-ADDRESS=Grieskai 74a\, 8020 Graz;X-
 APPLE-RADIUS=72;X-TITLE=Tube's:47.062323;15.4334
END:VEVENT
END:VCALENDAR