BEGIN:VCALENDAR
VERSION:2.0
PRODID:Events Booking
BEGIN:VEVENT
UID:69e843535c121
SUMMARY:Max Kreuzer Octet
DESCRIPTION:
 
 
 
 
 
 
 Maximilian Kreuzer - bass\, composition &a
 mp\; arrangementJonathan Herrgesell – alto &amp\; soprano sax\, flute &a
 mp\; clarinetAlbin Krieger - violinAnna Gollien - bass clarinet &amp\; cla
 rinetSimon Kintopp - tromboneFlorian Wiedner - tubaLukas Meissl - pianoAnd
 reas Reisenhofer - drums
 
 
 
 
 
 
 
LOCATION:Grieskai 74a\, 8020 Graz
DTSTART:20240529T180000Z
DTSTAMP:20260422T054107Z
ORGANIZER:MAILTO:tickets@tubes-music.at
GEO:47.062323;15.4334
X-APPLE-STRUCTURED-LOCATION;VALUE=URI;X-ADDRESS=Grieskai 74a\, 8020 Graz;X-
 APPLE-RADIUS=72;X-TITLE=Tube's:47.062323;15.4334
END:VEVENT
END:VCALENDAR