BEGIN:VCALENDAR
VERSION:2.0
PRODID:Events Booking
BEGIN:VEVENT
UID:69eaabf196b50
SUMMARY:100 Jahre Georg Kreisler
DESCRIPTION:100 Jahre Gorg Kreisler
 Jörg Martin Willnauer
 &nbsp\;
 pr
 esented by gamsbART
LOCATION:Grieskai 74a\, 8020 Graz
DTSTART:20220401T180000Z
DTSTAMP:20260424T013201Z
ORGANIZER:MAILTO:tickets@tubes-music.at
GEO:47.062323;15.4334
X-APPLE-STRUCTURED-LOCATION;VALUE=URI;X-ADDRESS=Grieskai 74a\, 8020 Graz;X-
 APPLE-RADIUS=72;X-TITLE=Tube's:47.062323;15.4334
END:VEVENT
END:VCALENDAR