BEGIN:VCALENDAR
VERSION:2.0
PRODID:Events Booking
BEGIN:VEVENT
UID:69e793cfc5633
SUMMARY:Timotej Kotnik - Via Ad Aeterna
DESCRIPTION:
 
 
 
 
 
 
 
 
 
 Timotej Kotnik&nbsp\; - trumpetVi
 d Jamnik -&nbsp\; vibraphoneJure Praper&nbsp\; -&nbsp\; guitar/FX Marko Č
 epak Maki&nbsp\;&nbsp\;-&nbsp\; guitar Miha Koren&nbsp\; -&nbsp\; bassGaj 
 Bostič&nbsp\; -&nbsp\; drums
 
 
 
 
 
 
 
 
 
 
 
LOCATION:Grieskai 74a\, 8020 Graz
DTSTART:20241205T190000Z
DTSTAMP:20260421T171215Z
ORGANIZER:MAILTO:tickets@tubes-music.at
GEO:47.062323;15.4334
X-APPLE-STRUCTURED-LOCATION;VALUE=URI;X-ADDRESS=Grieskai 74a\, 8020 Graz;X-
 APPLE-RADIUS=72;X-TITLE=Tube's:47.062323;15.4334
END:VEVENT
END:VCALENDAR