BEGIN:VCALENDAR
VERSION:2.0
PRODID:Events Booking
BEGIN:VEVENT
UID:69e793cfc3338
SUMMARY:KonsPop Trumpet Night
DESCRIPTION:
 
 
 
 
 
 
 
 
 
 Karl Rossmann &amp\; seine Trompe
 tenklasse
 Burkhard Frauenlob - PianoTom Wilding - BassWimmer Bernhard - 
 Drums
 featuring:Oliver Grönewald
 special guests:Gerhard OrnigHorst Mi
 chael Schaffer
 
 
 
 &nbsp\;
 
 
 
 
 
 
 
LOCATION:Grieskai 74a\, 8020 Graz
DTSTART:20241203T190000Z
DTSTAMP:20260421T171215Z
ORGANIZER:MAILTO:tickets@tubes-music.at
GEO:47.062323;15.4334
X-APPLE-STRUCTURED-LOCATION;VALUE=URI;X-ADDRESS=Grieskai 74a\, 8020 Graz;X-
 APPLE-RADIUS=72;X-TITLE=Tube's:47.062323;15.4334
END:VEVENT
END:VCALENDAR