BEGIN:VCALENDAR
VERSION:2.0
PRODID:Events Booking
BEGIN:VEVENT
UID:69eac0c1bbba3
SUMMARY:Köhder
DESCRIPTION:
 Florian Köhler&nbsp\; -&nbsp\;&nbsp\;Gesang\, GitarreBernha
 rd Neumaier. -&nbsp\;&nbsp\;PosauneValentin Aigner&nbsp\; -&nbsp\;&nbsp\;B
 assRaphael Meinhart. -&nbsp\;&nbsp\;Schlagzeug\, Mallets
 presented by Ga
 msbART
 
LOCATION:Grieskai 74a\, 8020 Graz
DTSTART:20220326T190000Z
DTSTAMP:20260424T030049Z
ORGANIZER:MAILTO:tickets@tubes-music.at
GEO:47.062323;15.4334
X-APPLE-STRUCTURED-LOCATION;VALUE=URI;X-ADDRESS=Grieskai 74a\, 8020 Graz;X-
 APPLE-RADIUS=72;X-TITLE=Tube's:47.062323;15.4334
END:VEVENT
END:VCALENDAR