BEGIN:VCALENDAR
VERSION:2.0
PRODID:Events Booking
BEGIN:VEVENT
UID:69e7b4e51ef6d
SUMMARY:Anna Keller & Cozy Friedel - 5x5
DESCRIPTION:
 
 
 
 
 
 
 
 
 
 Cozy Friedel&nbsp\; - Violine\, G
 esang Anna Keller&nbsp\; -&nbsp\; Saxophon\, Klarinette\, FlöteMaximilia
 n Gerstbach&nbsp\; -&nbsp\; Piano\, Keys Nina Feldgrill&nbsp\; -&nbsp\; Ba
 ss Markus Gruber&nbsp\; -&nbsp\; Drums
 
 
 
 
 
 
 
 
 
 
 
LOCATION:Grieskai 74a\, 8020 Graz
DTSTART:20241108T190000Z
DTSTAMP:20260421T193325Z
ORGANIZER:MAILTO:tickets@tubes-music.at
GEO:47.062323;15.4334
X-APPLE-STRUCTURED-LOCATION;VALUE=URI;X-ADDRESS=Grieskai 74a\, 8020 Graz;X-
 APPLE-RADIUS=72;X-TITLE=Tube's:47.062323;15.4334
END:VEVENT
END:VCALENDAR