BEGIN:VCALENDAR
VERSION:2.0
PRODID:Events Booking
BEGIN:VEVENT
UID:69e7ae6056635
SUMMARY:Thad Jones 100 - Magnarelli / Oatts / Smulyan
DESCRIPTION:
 
 
 
 
 
 
 Joe Magnarelli (USA) - trumpetDick Oatts (
 USA) - alto saxGary Smulyan (USA) - baritone sax
 Oliver Kent (AT) - pian
 oAldo Zunino (IT) - bassBernd Reiter (AT) - drums
 
 
 
 
 
 
 
 
LOCATION:Grieskai 74a\, 8020 Graz
DTSTART:20241119T190000Z
DTSTAMP:20260421T190536Z
ORGANIZER:MAILTO:tickets@tubes-music.at
GEO:47.062323;15.4334
X-APPLE-STRUCTURED-LOCATION;VALUE=URI;X-ADDRESS=Grieskai 74a\, 8020 Graz;X-
 APPLE-RADIUS=72;X-TITLE=Tube's:47.062323;15.4334
END:VEVENT
END:VCALENDAR