BEGIN:VCALENDAR
VERSION:2.0
PRODID:Events Booking
BEGIN:VEVENT
UID:69e8a35a1f7de
SUMMARY:Focus on Pierre Jodlowski II
DESCRIPTION:
 
 
 
 
 [open music]&nbsp\; presents
 Pierre Jodlowski&
 nbsp\;electronicsGerald Preinfalk&nbsp\;saxophones\, bass clarinetMartin B
 randlmayr&nbsp\;drums\, percussion
 
 
 
 
 
LOCATION:Grieskai 74a\, 8020 Graz
DTSTART:20240126T190000Z
DTSTAMP:20260422T123050Z
ORGANIZER:MAILTO:tickets@tubes-music.at
GEO:47.062323;15.4334
X-APPLE-STRUCTURED-LOCATION;VALUE=URI;X-ADDRESS=Grieskai 74a\, 8020 Graz;X-
 APPLE-RADIUS=72;X-TITLE=Tube's:47.062323;15.4334
END:VEVENT
END:VCALENDAR