BEGIN:VCALENDAR
VERSION:2.0
PRODID:Events Booking
BEGIN:VEVENT
UID:69e7c8e5824ed
SUMMARY:Jim Rotondi Memorial Evening
DESCRIPTION:
 
 
 
 
 
 
 Dena DeRose\, Luis Bonilla\,&nbsp\;Chris S
 mith\, Guido Jeszensky\, Julian Argüelles\,Renato Chicco\, Heinrich von K
 alnein\, Günther Brück\,&nbsp\;Wolfgang Tozzi\, u.v.a.
 
 
 
 
 
 
 
 
 
LOCATION:Grieskai 74a\, 8020 Graz
DTSTART:20241025T180000Z
DTSTAMP:20260421T205845Z
ORGANIZER:MAILTO:tickets@tubes-music.at
GEO:47.062323;15.4334
X-APPLE-STRUCTURED-LOCATION;VALUE=URI;X-ADDRESS=Grieskai 74a\, 8020 Graz;X-
 APPLE-RADIUS=72;X-TITLE=Tube's:47.062323;15.4334
END:VEVENT
END:VCALENDAR