BEGIN:VCALENDAR
VERSION:2.0
PRODID:Events Booking
BEGIN:VEVENT
UID:69e7c937b7413
SUMMARY:Jim Rotondi Memorial Evening
DESCRIPTION:
 
 
 
 
 
 
 Dena DeRose\, Olaf Polziehn\, Luis Bonilla
 \,Chris Smith\, Guido Jeszensky\, Julian Argüelles\,Renato Chicco\, Heinr
 ich von Kalnein\, Günther Brück\,Christian Salfellner\, Wolfgang Tozzi\,
  Stefan Heckel u.v.a.
 
 
 
 
 
 
 
 
LOCATION:Grieskai 74a\, 8020 Graz
DTSTART:20241024T180000Z
DTSTAMP:20260421T210007Z
ORGANIZER:MAILTO:tickets@tubes-music.at
GEO:47.062323;15.4334
X-APPLE-STRUCTURED-LOCATION;VALUE=URI;X-ADDRESS=Grieskai 74a\, 8020 Graz;X-
 APPLE-RADIUS=72;X-TITLE=Tube's:47.062323;15.4334
END:VEVENT
END:VCALENDAR