BEGIN:VCALENDAR
VERSION:2.0
PRODID:Events Booking
BEGIN:VEVENT
UID:69ea141b01c86
SUMMARY:James Brandon Lewis Trio
DESCRIPTION:
 
 
 
 
 
 
 
 
 James Brandon Lewis&nbsp\;- saxophon
 eChristopher Hoffman&nbsp\;- celloMax Jaffe&nbsp\;- drums
 presented by o
 pen music
 
 
 
 
 
 
 
 
 
 
 
 &nbsp\;
 
 
 
 
 
 
 
 
 
 &nbsp\;
 
 
 
 
 
 
LOCATION:Grieskai 74a\, 8020 Graz
DTSTART:20221024T180000Z
DTSTAMP:20260423T144411Z
ORGANIZER:MAILTO:tickets@tubes-music.at
GEO:47.062323;15.4334
X-APPLE-STRUCTURED-LOCATION;VALUE=URI;X-ADDRESS=Grieskai 74a\, 8020 Graz;X-
 APPLE-RADIUS=72;X-TITLE=Tube's:47.062323;15.4334
END:VEVENT
END:VCALENDAR