BEGIN:VCALENDAR
VERSION:2.0
PRODID:Events Booking
BEGIN:VEVENT
UID:69e8d3750fe90
SUMMARY:James Brandon Lewis Quartet
DESCRIPTION:
 
 
 
 GamsbART presents
 &nbsp\;
 
 James Brandon Lewi
 s - tenorsaxAruán Ortiz - pianoBrad Jones - bassChad Taylor - drums
 
 
 
 
 
 
LOCATION:Grieskai 74a\, 8020 Graz
DTSTART:20231120T190000Z
DTSTAMP:20260422T155605Z
ORGANIZER:MAILTO:tickets@tubes-music.at
GEO:47.062323;15.4334
X-APPLE-STRUCTURED-LOCATION;VALUE=URI;X-ADDRESS=Grieskai 74a\, 8020 Graz;X-
 APPLE-RADIUS=72;X-TITLE=Tube's:47.062323;15.4334
END:VEVENT
END:VCALENDAR