BEGIN:VCALENDAR
VERSION:2.0
PRODID:Events Booking
BEGIN:VEVENT
UID:69e6c04d67b9e
SUMMARY:Jazz Passengers - \"A Tribute to Oscar Peterson\"
DESCRIPTION:
 
 
 
 
 Max Weller - Klavier
 Eddie Luis - Kontrabass

  Oleg Markov - Schlagzeug&nbsp\;
 
 
 
 
 
LOCATION:Grieskai 74a\, 8020 Graz
DTSTART:20260528T180000Z
DTSTAMP:20260421T020949Z
ORGANIZER:MAILTO:tickets@tubes-music.at
GEO:47.062323;15.4334
X-APPLE-STRUCTURED-LOCATION;VALUE=URI;X-ADDRESS=Grieskai 74a\, 8020 Graz;X-
 APPLE-RADIUS=72;X-TITLE=Tube's:47.062323;15.4334
END:VEVENT
END:VCALENDAR