BEGIN:VCALENDAR
VERSION:2.0
PRODID:Events Booking
BEGIN:VEVENT
UID:69eac19ccd763
SUMMARY:Keïta & Brönnimann & Niggli - Trio
DESCRIPTION:Aly Keïta&nbsp\; -&nbsp\;&nbsp\;Balafon / VoiceJan Galega Brö
 nnimann&nbsp\; -&nbsp\;&nbsp\;Bass-Clarinet&nbsp\;Lucas Niggli. -&nbsp\;&n
 bsp\;Percussion
 presented by GamsbART
LOCATION:Grieskai 74a\, 8020 Graz
DTSTART:20220311T190000Z
DTSTAMP:20260424T030428Z
ORGANIZER:MAILTO:tickets@tubes-music.at
GEO:47.062323;15.4334
X-APPLE-STRUCTURED-LOCATION;VALUE=URI;X-ADDRESS=Grieskai 74a\, 8020 Graz;X-
 APPLE-RADIUS=72;X-TITLE=Tube's:47.062323;15.4334
END:VEVENT
END:VCALENDAR