BEGIN:VCALENDAR
VERSION:2.0
PRODID:Events Booking
BEGIN:VEVENT
UID:69e99d7e07eab
SUMMARY:Jarecki Jazzoktet
DESCRIPTION:
 
 
 
 presented by GamsbART
 &nbsp\;
 Agata Lawicka - t
 rumpet\, flugelhornDawid Toklowicz - bass clarinetSzymon Kowalik - tenor s
 axophoneRafat Jackiewicz - soprano and alto saxophoneDominik Tukaszczyk - 
 tromboneJan Jarecki - compositions\, piano\, RhodesMichat Aftyka - double 
 bassMaksymilian Kreft – drums
 
 
 
 
LOCATION:Grieskai 74a\, 8020 Graz
DTSTART:20230320T190000Z
DTSTAMP:20260423T061806Z
ORGANIZER:MAILTO:tickets@tubes-music.at
GEO:47.062323;15.4334
X-APPLE-STRUCTURED-LOCATION;VALUE=URI;X-ADDRESS=Grieskai 74a\, 8020 Graz;X-
 APPLE-RADIUS=72;X-TITLE=Tube's:47.062323;15.4334
END:VEVENT
END:VCALENDAR