BEGIN:VCALENDAR
VERSION:2.0
PRODID:Events Booking
BEGIN:VEVENT
UID:69ea92589771c
SUMMARY:Armin Jambor - Bad Odyssey
DESCRIPTION:
 
 Armin Jambor&nbsp\;– saxophone&nbsp\;Daniel Hofecker&nb
 sp\;– trumpet&nbsp\;Fabian Supancic&nbsp\;– pianoMiloš Čolović&nbsp
 \;– bassAndreas Reisenhofer&nbsp\;– drums&nbsp\;
 
 
LOCATION:Grieskai 74a\, 8020 Graz
DTSTART:20220512T180000Z
DTSTAMP:20260423T234248Z
ORGANIZER:MAILTO:tickets@tubes-music.at
GEO:47.062323;15.4334
X-APPLE-STRUCTURED-LOCATION;VALUE=URI;X-ADDRESS=Grieskai 74a\, 8020 Graz;X-
 APPLE-RADIUS=72;X-TITLE=Tube's:47.062323;15.4334
END:VEVENT
END:VCALENDAR