BEGIN:VCALENDAR
VERSION:2.0
PRODID:Events Booking
BEGIN:VEVENT
UID:69e8708a7ea21
SUMMARY:Jakomini Jazz Trio feat. Tanja Filipović
DESCRIPTION:
 
 
 
 
 Žan Cesar - trumpet
 Tilen Gavranović - guita
 r
 Jernej Vindšnurer - bass
 &nbsp\;
 featuring
 Tanja Filipović - v
 ocal&nbsp\;
 
 
 
 
 
LOCATION:Grieskai 74a\, 8020 Graz
DTSTART:20240320T190000Z
DTSTAMP:20260422T085402Z
ORGANIZER:MAILTO:tickets@tubes-music.at
GEO:47.062323;15.4334
X-APPLE-STRUCTURED-LOCATION;VALUE=URI;X-ADDRESS=Grieskai 74a\, 8020 Graz;X-
 APPLE-RADIUS=72;X-TITLE=Tube's:47.062323;15.4334
END:VEVENT
END:VCALENDAR