BEGIN:VCALENDAR
VERSION:2.0
PRODID:Events Booking
BEGIN:VEVENT
UID:69e842bf6da41
SUMMARY:Immanuel Wilkins Quartet
DESCRIPTION:
 
 
 
 
 
 
 Immanuel Wilkins&nbsp\;- saxophoneMicah Th
 omas - pianoRick Rosato - bassKweku Sumbry - drums
 
 
 
 
 
 
 
LOCATION:Grieskai 74a\, 8020 Graz
DTSTART:20240528T180000Z
DTSTAMP:20260422T053839Z
ORGANIZER:MAILTO:tickets@tubes-music.at
GEO:47.062323;15.4334
X-APPLE-STRUCTURED-LOCATION;VALUE=URI;X-ADDRESS=Grieskai 74a\, 8020 Graz;X-
 APPLE-RADIUS=72;X-TITLE=Tube's:47.062323;15.4334
END:VEVENT
END:VCALENDAR