BEGIN:VCALENDAR
VERSION:2.0
PRODID:Events Booking
BEGIN:VEVENT
UID:69e73b3b895b2
SUMMARY:herms FRITZ & krahfeda
DESCRIPTION:
 
 
 
 
 herms FRITZ&nbsp\; &nbsp\;(Stimm)norbert RUSZ&nb
 sp\; &nbsp\;(Gitarr\, Bass\, Trommel\, Stimm)franz SCHMUCK&nbsp\;&nbsp\; (
 Trommeln &amp\; Scheppern\, Klavier\, Stimm)&nbsp\;richie WINKLER&nbsp\;&n
 bsp\; (Sax &amp\; anderes Gebläse\, Stimm)
 
 
 
 
 
LOCATION:Grieskai 74a\, 8020 Graz
DTSTART:20250401T180000Z
DTSTAMP:20260421T105419Z
ORGANIZER:MAILTO:tickets@tubes-music.at
GEO:47.062323;15.4334
X-APPLE-STRUCTURED-LOCATION;VALUE=URI;X-ADDRESS=Grieskai 74a\, 8020 Graz;X-
 APPLE-RADIUS=72;X-TITLE=Tube's:47.062323;15.4334
END:VEVENT
END:VCALENDAR