BEGIN:VCALENDAR
VERSION:2.0
PRODID:Events Booking
BEGIN:VEVENT
UID:69e8f20ceffce
SUMMARY:Belofour
DESCRIPTION:
 
 
 
 
 BELOFOUR - die akkordeon boygroup aus Wien
 pau
 l schuberth - pigini akkordeonnikola zaric - sabatini akkordeonstefan heck
 el - pigini akkordeonstefan sterzinger - victoria akkordeon
 
 
 
 
 
LOCATION:Grieskai 74a\, 8020 Graz
DTSTART:20231025T180000Z
DTSTAMP:20260422T180636Z
ORGANIZER:MAILTO:tickets@tubes-music.at
GEO:47.062323;15.4334
X-APPLE-STRUCTURED-LOCATION;VALUE=URI;X-ADDRESS=Grieskai 74a\, 8020 Graz;X-
 APPLE-RADIUS=72;X-TITLE=Tube's:47.062323;15.4334
END:VEVENT
END:VCALENDAR